BEGIN:VCALENDAR
VERSION:2.0
PRODID:-//AGORA - ECPv6.15.13//NONSGML v1.0//EN
CALSCALE:GREGORIAN
METHOD:PUBLISH
X-WR-CALNAME:AGORA
X-ORIGINAL-URL:https://www.agora.lu
X-WR-CALDESC:Évènements pour AGORA
REFRESH-INTERVAL;VALUE=DURATION:PT1H
X-Robots-Tag:noindex
X-PUBLISHED-TTL:PT1H
BEGIN:VTIMEZONE
TZID:UTC
BEGIN:STANDARD
TZOFFSETFROM:+0000
TZOFFSETTO:+0000
TZNAME:UTC
DTSTART:20250101T000000
END:STANDARD
END:VTIMEZONE
BEGIN:VEVENT
DTSTART;VALUE=DATE:20260513
DTEND;VALUE=DATE:20260517
DTSTAMP:20260425T123944
CREATED:20260410T124804Z
LAST-MODIFIED:20260417T151737Z
UID:17411-1778630400-1778975999@www.agora.lu
SUMMARY:Découvrez Metzeschmelz !
DESCRIPTION:Découvrez Metzeschmelz !				\n				\n				\n				\n					\n		\n			mai 13\n\n		\n	\n	 - \n\n	mai 16\n\n	\n				\n				\n				\n				\n					\n	\n				\n				\n				\n				\n									https://www.agora.lu/wp-content/uploads/2026/04/20260417B-AGORA-12-Metzeschmelz-Flyer-A5_web.pdfDécouvrez Metzeschmelz – la semaine d’expériences sur Metzeschmelz Date : 13–16 mai 2026Lieu : Metzeschmelz\, Esch / SchifflangeEntrée : Gratuite Du mercredi au samedi\, du 13 au 16 mai 2026\, le site de Metzeschmelz – situé entre Esch et Schifflange – ouvre ses portes pour une semaine d’expériences de quatre jours riche en musique\, rencontres et moments culturels. Programme : 13.05. | Opening Party (17h00–00h00) – Ambiance après-ski avec les DJs du Kuhstall d’Ischgl14.05. | Family Day (11h00–00h00) – Animations\, musique et demi-finale de l’ESC en direct dès 20h00 dans la fan zone officielle15.05. | Afterwork Friday (17h00–00h00) – Afterwork détendu avec un DJ set exceptionnel16.05. | Pionéier Forum (11h00–00h00) – Rencontres et échanges entre tous les acteurs du site\, finale de l’ESC en direct dès 20h00Tout au long de la semaine :Foodtruck Village avec plus de 25 trucks par jour – il y en a pour tous les goûts ! Accès :Le site est facilement accessible en navette – avec des arrêts sur le parking situé à côté du Boulevard Aloyse Meyer (carte) ainsi qu’au Bâtiment 5 (carte). Les visiteurs à pied peuvent accéder au site directement depuis le côté Schifflange (carte). Téléchargez ici la brochure de l’événement 								\n				\n				\n				\n					\n	\n		\n\n	\n	Ajouter au calendrier	\n		\n	\n\n		\n			\n									\n	Google Agenda\n\n									\n	iCalendar\n\n									\n	Outlook 365\n\n									\n	Outlook Live\n\n							\n		\n\n		\n	\n\n				\n				\n				\n						\n					\n			\n							\n		\n				\n			\n							\n		\n					\n		\n				\n						\n					\n			\n							\n		\n					\n		\n				\n						\n					\n			\n						\n				\n					\n	\n		\n\n				Visite guidée Metzeschmelz
URL:https://www.agora.lu/event/forum-des-pionniers-a-metzeschmelz/
LOCATION:Metzeschmelz\, Luxembourg
ATTACH;FMTTYPE=image/jpeg:https://www.agora.lu/wp-content/uploads/2026/04/20260417-AGORA-12-Metzeschmelz-Social__Web-Agora-scaled.jpg
END:VEVENT
END:VCALENDAR